BEGIN:VCALENDAR
VERSION:2.0
PRODID:-//NATS Vancouver - ECPv4.3.4.2//NONSGML v1.0//EN
CALSCALE:GREGORIAN
METHOD:PUBLISH
X-WR-CALNAME:NATS Vancouver
X-ORIGINAL-URL:https://www.natsvancouver.org
X-WR-CALDESC:Events for NATS Vancouver
BEGIN:VEVENT
DTSTART;TZID=America/Vancouver:20231014T093000
DTEND;TZID=America/Vancouver:20231014T093000
DTSTAMP:20260423T184249
CREATED:20230626T175910Z
LAST-MODIFIED:20230908T204712Z
UID:1711-1697275800-1697275800@www.natsvancouver.org
SUMMARY:Workshop with Dr Trineice Robinson-Martin
DESCRIPTION:Saturday October 14 - a morning session for singers and music educators and an afternoon session of “learning through gospel singing” for any and all interested.\nVenue: Highlands United Church\, 3255 Edgemont Boulevard\, North Vancouver.\n\nInfo\, registration and tickets can be found here: https://drtvan23.eventbrite.ca/
URL:https://www.natsvancouver.org/event/workshop-dr-treneice-robinson-martin/
ORGANIZER;CN="Geordie%20Roberts":MAILTO:geordieroberts41@gmail.com
END:VEVENT
END:VCALENDAR