BEGIN:VCALENDAR
VERSION:2.0
PRODID:-//NATS Vancouver - ECPv4.3.4.2//NONSGML v1.0//EN
CALSCALE:GREGORIAN
METHOD:PUBLISH
X-WR-CALNAME:NATS Vancouver
X-ORIGINAL-URL:https://www.natsvancouver.org
X-WR-CALDESC:Events for NATS Vancouver
BEGIN:VEVENT
DTSTART;TZID=America/Vancouver:20200126T133000
DTEND;TZID=America/Vancouver:20200126T150000
DTSTAMP:20260423T234953
CREATED:20191106T043804Z
LAST-MODIFIED:20191106T043804Z
UID:1393-1580045400-1580050800@www.natsvancouver.org
SUMMARY:Winter Student Recital
DESCRIPTION:An excellent opportunity to get your festival repertoire up and running; think how ready you will be for Songfest on April 5! Classical\, musical theatre\, folk and other acoustic genres all welcome at this recital\, any level of experience.\n\nThis recital is being run in conjunction with the Student Auditions Program - here is the link if you are interested in competing: https://www.nats.org/national_student_auditions.html.\n\nFor more information on Student Auditions\, contact Grant Wutzke: grantwutzke at live dot com
URL:https://www.natsvancouver.org/event/winter-student-recital/
LOCATION:3333 Kaslo Street\, Vancouver\, BC\, Canada
END:VEVENT
END:VCALENDAR