BEGIN:VCALENDAR
VERSION:2.0
PRODID:-//NATS Vancouver - ECPv4.3.4.2//NONSGML v1.0//EN
CALSCALE:GREGORIAN
METHOD:PUBLISH
X-WR-CALNAME:NATS Vancouver
X-ORIGINAL-URL:https://www.natsvancouver.org
X-WR-CALDESC:Events for NATS Vancouver
BEGIN:VEVENT
DTSTART;TZID=America/Vancouver:20150801T100000
DTEND;TZID=America/Vancouver:20150831T210000
DTSTAMP:20260424T033412
CREATED:20150716T070248Z
LAST-MODIFIED:20150716T075733Z
UID:831-1438423200-1441054800@www.natsvancouver.org
SUMMARY:The Vivaldi Chamber Choir - Open Auditions
DESCRIPTION:The Vivaldi Chamber Choir is holding open auditions for the 2015-2016 season during the month of August.\nPlease visit http://vivaldichoir.org for more details.
URL:https://www.natsvancouver.org/event/vivaldi-chamber-choir-open-auditions/
END:VEVENT
END:VCALENDAR