BEGIN:VCALENDAR
VERSION:2.0
PRODID:-//NATS Vancouver - ECPv4.3.4.2//NONSGML v1.0//EN
CALSCALE:GREGORIAN
METHOD:PUBLISH
X-WR-CALNAME:NATS Vancouver
X-ORIGINAL-URL:https://www.natsvancouver.org
X-WR-CALDESC:Events for NATS Vancouver
BEGIN:VEVENT
DTSTART;TZID=America/Vancouver:20140525T140000
DTEND;TZID=America/Vancouver:20140525T170000
DTSTAMP:20260424T031552
CREATED:20140414T182638Z
LAST-MODIFIED:20140414T182638Z
UID:354-1401026400-1401037200@www.natsvancouver.org
SUMMARY:Vancouver Bach Children's Chorus Summer Event
DESCRIPTION:\n\n\nVancouver Bach Children's Chorus Summer Concert. Sunday May 25\, 2pm at the Chan Centre\, UBC Campus. Marisa Gaetanne\, Musical Director\n
URL:https://www.natsvancouver.org/event/vancouver-bach-childrens-chorus-summer-event/
LOCATION:6265 Crescent Rd\, Vancovuer
END:VEVENT
END:VCALENDAR