BEGIN:VCALENDAR
VERSION:2.0
PRODID:-//NATS Vancouver - ECPv4.3.4.2//NONSGML v1.0//EN
CALSCALE:GREGORIAN
METHOD:PUBLISH
X-WR-CALNAME:NATS Vancouver
X-ORIGINAL-URL:https://www.natsvancouver.org
X-WR-CALDESC:Events for NATS Vancouver
BEGIN:VEVENT
DTSTART;TZID=America/Vancouver:20201018T160000
DTEND;TZID=America/Vancouver:20201018T173000
DTSTAMP:20260423T220956
CREATED:20200922T031837Z
LAST-MODIFIED:20200922T031837Z
UID:1483-1603036800-1603042200@www.natsvancouver.org
SUMMARY:Technology in the online Studio with Billy Gollner
DESCRIPTION:Helps for online teaching presented in plain language. Billy has a wealth of knowledge and experience with online teaching so bring him all your questions.
URL:https://www.natsvancouver.org/event/technology-online-studio-billy-gollner/
END:VEVENT
END:VCALENDAR