BEGIN:VCALENDAR
VERSION:2.0
PRODID:-//NATS Vancouver - ECPv4.3.4.2//NONSGML v1.0//EN
CALSCALE:GREGORIAN
METHOD:PUBLISH
X-WR-CALNAME:NATS Vancouver
X-ORIGINAL-URL:https://www.natsvancouver.org
X-WR-CALDESC:Events for NATS Vancouver
BEGIN:VEVENT
DTSTART;TZID=America/Vancouver:20180422T140000
DTEND;TZID=America/Vancouver:20180422T160000
DTSTAMP:20260423T234545
CREATED:20170928T174929Z
LAST-MODIFIED:20170928T175059Z
UID:1193-1524405600-1524412800@www.natsvancouver.org
SUMMARY:Spring Student Recital
DESCRIPTION:All that repertoire you've been working on since September? It's time to perform those songs for a friendly\, supportive audience. See the "Recitals" page for information on how to sign up for this event.
URL:https://www.natsvancouver.org/event/spring-student-recital/
LOCATION:375 W. 10th Avenue\, Vancouver\, BC\, Canada
END:VEVENT
END:VCALENDAR