BEGIN:VCALENDAR
VERSION:2.0
PRODID:-//NATS Vancouver - ECPv4.3.4.2//NONSGML v1.0//EN
CALSCALE:GREGORIAN
METHOD:PUBLISH
X-WR-CALNAME:NATS Vancouver
X-ORIGINAL-URL:https://www.natsvancouver.org
X-WR-CALDESC:Events for NATS Vancouver
BEGIN:VEVENT
DTSTART;TZID=America/Vancouver:20250221T190000
DTEND;TZID=America/Vancouver:20250221T203000
DTSTAMP:20260423T172512
CREATED:20241026T052431Z
LAST-MODIFIED:20250204T190200Z
UID:1777-1740164400-1740169800@www.natsvancouver.org
SUMMARY:Spring Student Recital
DESCRIPTION:A student recital scheduled to help students prepare for the music festival season. Come test-run your festival repertoire in front of a friendly supportive audience. Sound technician will be on-site for those using microphones and/or backing tracks.
URL:https://www.natsvancouver.org/event/spring-student-recital-5/
LOCATION:1600 Delta Avenue\, Burnaby \, BC
ORGANIZER;CN="Geordie%20Roberts":MAILTO:geordieroberts41@gmail.com
END:VEVENT
END:VCALENDAR