BEGIN:VCALENDAR
VERSION:2.0
PRODID:-//NATS Vancouver - ECPv4.3.4.2//NONSGML v1.0//EN
CALSCALE:GREGORIAN
METHOD:PUBLISH
X-WR-CALNAME:NATS Vancouver
X-ORIGINAL-URL:https://www.natsvancouver.org
X-WR-CALDESC:Events for NATS Vancouver
BEGIN:VEVENT
DTSTART;TZID=America/Vancouver:20240301T190000
DTEND;TZID=America/Vancouver:20240301T203000
DTSTAMP:20260423T183838
CREATED:20240212T094643Z
LAST-MODIFIED:20240212T094734Z
UID:1751-1709319600-1709325000@www.natsvancouver.org
SUMMARY:Spring Student Recital
DESCRIPTION:A “hybrid” recital for both acoustic and mic’d performances. Zoom link available for those audience members unable to attend in person. Contact Geordie Roberts for the link.
URL:https://www.natsvancouver.org/event/spring-student-recital-4/
LOCATION:1600 Delta Avenue\, Burnaby \, BC
ORGANIZER;CN="George%20Roberts":MAILTO:groberts@capilanou.ca 
END:VEVENT
END:VCALENDAR