BEGIN:VCALENDAR
VERSION:2.0
PRODID:-//NATS Vancouver - ECPv4.3.4.2//NONSGML v1.0//EN
CALSCALE:GREGORIAN
METHOD:PUBLISH
X-WR-CALNAME:NATS Vancouver
X-ORIGINAL-URL:https://www.natsvancouver.org
X-WR-CALDESC:Events for NATS Vancouver
BEGIN:VEVENT
DTSTART;TZID=America/Vancouver:20230312T190000
DTEND;TZID=America/Vancouver:20230312T203000
DTSTAMP:20260423T183838
CREATED:20230117T222939Z
LAST-MODIFIED:20230207T171906Z
UID:1673-1678647600-1678653000@www.natsvancouver.org
SUMMARY:Spring Student Recital
DESCRIPTION:Singers of all ages and of any level of achievement are invited to perform to a supportive audience in an encouraging acoustic on Sunday March 12 at 7 pm. Grand piano on site. If you sing to backing tracks\, you will need to provide your own device to play your tracks. No microphone – acoustic vocals only.\n\nIf you need help finding an accompanist\, please contact the recital organizer\, Geordie Roberts.\n\nVenue is Brentwood Presbyterian Church\, 1600 Delta Avenue\, Burnaby BC\n\nSome parking available on site.\n\nSuggested length of performance: maximum of 8 minutes or 2 songs\, whichever is less.\n\nPlease submit your information for the program to Lorraine Reinhardt by March 6. Include singer’s name\, title and composer of songs. We would also appreciate knowing the level of study of the singer so that the beginners can go first.\n\nOn with the show!
URL:https://www.natsvancouver.org/event/spring-student-recital-3/
LOCATION:1600 Delta Avenue\, Burnaby \, BC
ORGANIZER;CN="George%20Roberts":MAILTO:groberts@capilanou.ca 
END:VEVENT
END:VCALENDAR