BEGIN:VCALENDAR
VERSION:2.0
PRODID:-//NATS Vancouver - ECPv4.3.4.2//NONSGML v1.0//EN
CALSCALE:GREGORIAN
METHOD:PUBLISH
X-WR-CALNAME:NATS Vancouver
X-ORIGINAL-URL:https://www.natsvancouver.org
X-WR-CALDESC:Events for NATS Vancouver
BEGIN:VEVENT
DTSTART;TZID=America/Vancouver:20150412T140000
DTEND;TZID=America/Vancouver:20150412T153000
DTSTAMP:20260424T040032
CREATED:20140804T011517Z
LAST-MODIFIED:20141110T200349Z
UID:680-1428847200-1428852600@www.natsvancouver.org
SUMMARY:Spring Recital
DESCRIPTION:
URL:https://www.natsvancouver.org/event/spring-recital/
LOCATION:3333 Kaslo Street\, Vancouver\, BC\, Canada
END:VEVENT
END:VCALENDAR