BEGIN:VCALENDAR
VERSION:2.0
PRODID:-//NATS Vancouver - ECPv4.3.4.2//NONSGML v1.0//EN
CALSCALE:GREGORIAN
METHOD:PUBLISH
X-WR-CALNAME:NATS Vancouver
X-ORIGINAL-URL:https://www.natsvancouver.org
X-WR-CALDESC:Events for NATS Vancouver
BEGIN:VEVENT
DTSTART;VALUE=DATE:20170225
DTEND;VALUE=DATE:20170226
DTSTAMP:20260424T023851
CREATED:20160708T002133Z
LAST-MODIFIED:20170120T205614Z
UID:1035-1487980800-1488153599@www.natsvancouver.org
SUMMARY:Songfest & National Student Auditions
DESCRIPTION:
URL:https://www.natsvancouver.org/event/songfest-national-student-auditions/
LOCATION:375 W. 10th Avenue\, Vancouver\, BC\, Canada
END:VEVENT
END:VCALENDAR