BEGIN:VCALENDAR
VERSION:2.0
PRODID:-//NATS Vancouver - ECPv4.3.4.2//NONSGML v1.0//EN
CALSCALE:GREGORIAN
METHOD:PUBLISH
X-WR-CALNAME:NATS Vancouver
X-ORIGINAL-URL:https://www.natsvancouver.org
X-WR-CALDESC:Events for NATS Vancouver
BEGIN:VEVENT
DTSTART;VALUE=DATE:20250503
DTEND;VALUE=DATE:20250503
DTSTAMP:20260423T172651
CREATED:20241026T052934Z
LAST-MODIFIED:20250204T052841Z
UID:1780-1746230400-1746316799@www.natsvancouver.org
SUMMARY:Songfest 2025 - Returns to Spirit of Life Church!
DESCRIPTION:Songfest 2025 will be held on Saturday May 3 at Spirit of Life Lutheran Church in Vancouver. Songfest is open to singers of all ages studying with both NATS and non-NATS teachers.\n\nClick on the links below for information on this year's festival and registration\nSYLLABUS: https://docs.google.com/document/d/153TnJJ6jXf7WF7g6sPDQNcSaaDV-jmclxvKXeXklpEc/edit?usp=sharing\n\nAPPLICATION FORM: https://docs.google.com/forms/d/e/1FAIpQLSe8GBiGT8ogwHSXk0D0K2tZGL4oYKxTtHycZC6m-oWn2IIc1A/viewform?usp=sharing\n 
URL:https://www.natsvancouver.org/event/songfest-2025/
LOCATION:375 W. 10th Avenue\, Vancouver\, BC\, Canada
END:VEVENT
END:VCALENDAR