BEGIN:VCALENDAR
VERSION:2.0
PRODID:-//NATS Vancouver - ECPv4.3.4.2//NONSGML v1.0//EN
CALSCALE:GREGORIAN
METHOD:PUBLISH
X-WR-CALNAME:NATS Vancouver
X-ORIGINAL-URL:https://www.natsvancouver.org
X-WR-CALDESC:Events for NATS Vancouver
BEGIN:VEVENT
DTSTART;VALUE=DATE:20220507
DTEND;VALUE=DATE:20220507
DTSTAMP:20260423T200904
CREATED:20220208T160733Z
LAST-MODIFIED:20220301T070332Z
UID:1599-1651881600-1651967999@www.natsvancouver.org
SUMMARY:Songfest 2022
DESCRIPTION:Save the date! Our annual all-day singing festival. We are confident this event will be in-person this year. Should the COVID situation take yet another turn\, and time allows\, we will pivot to a virtual festival. Click on the links below and find out how you can be part of a supportive performing and learning experience in a respectful\, safe and constructive atmosphere.\n\nSONGFEST 2022 SYLLABUS\n\nFollow this link to the registration page:\n\nhttps://docs.google.com/forms/d/e/1FAIpQLSckMXfYbm_5k2EJIMUXG0vxV8tDAhRKZY8FYBuhukFnuqJpxw/viewform
URL:https://www.natsvancouver.org/event/songfest-2022/
LOCATION:375 W. 10th Avenue\, Vancouver\, BC\, Canada
CATEGORIES:Songfest
ORGANIZER;CN="Melanie%20Adams%2C%20Rowena%20Silver%20Bridson%20and%20Lorraine%20Reinhardt":MAILTO:adamsvoicestudio@gmail.com
END:VEVENT
END:VCALENDAR