BEGIN:VCALENDAR
VERSION:2.0
PRODID:-//NATS Vancouver - ECPv4.3.4.2//NONSGML v1.0//EN
CALSCALE:GREGORIAN
METHOD:PUBLISH
X-WR-CALNAME:NATS Vancouver
X-ORIGINAL-URL:https://www.natsvancouver.org
X-WR-CALDESC:Events for NATS Vancouver
BEGIN:VEVENT
DTSTART;TZID=America/Vancouver:20231110T170000
DTEND;TZID=America/Vancouver:20231112T120000
DTSTAMP:20260423T184212
CREATED:20230626T180048Z
LAST-MODIFIED:20230905T015143Z
UID:1714-1699635600-1699790400@www.natsvancouver.org
SUMMARY:Regional Conference at Seattle Opera Centre
DESCRIPTION:Professional Development sessions for all and the NATSAA competition.
URL:https://www.natsvancouver.org/event/regional-conference-seattle-opera-centre/
END:VEVENT
END:VCALENDAR