BEGIN:VCALENDAR
VERSION:2.0
PRODID:-//NATS Vancouver - ECPv4.3.4.2//NONSGML v1.0//EN
CALSCALE:GREGORIAN
METHOD:PUBLISH
X-WR-CALNAME:NATS Vancouver
X-ORIGINAL-URL:https://www.natsvancouver.org
X-WR-CALDESC:Events for NATS Vancouver
BEGIN:VEVENT
DTSTART;TZID=America/Vancouver:20210425T160000
DTEND;TZID=America/Vancouver:20210425T173000
DTSTAMP:20260423T201604
CREATED:20210414T181605Z
LAST-MODIFIED:20210414T181605Z
UID:1547-1619366400-1619371800@www.natsvancouver.org
SUMMARY:"Nurturing Young Singers in the Studio" - A mini-webinar
DESCRIPTION:"Nurturing Young Singers in the Studio" - A Mini-Webinar for teachers of children\, tweens and teens\nPresented by: Kelly Coubrough and Melissa Braun\nDate: Sunday\, April 25 at 4pm on Zoom\n\nIf you are not a member of NATS Vancouver but would like to attend\, please contact groberts@capilanou.ca for the link\, available Saturday April 24\n\nOur presenters:\n\nAbout Melissa Braun pdf\n\n\n\nKelly Bio NATS 2021 copy
URL:https://www.natsvancouver.org/event/nurturing-young-singers-studio-mini-webinar/
ORGANIZER;CN="George%20Roberts":MAILTO:groberts@capilanou.ca 
END:VEVENT
END:VCALENDAR