BEGIN:VCALENDAR
VERSION:2.0
PRODID:-//NATS Vancouver - ECPv4.3.4.2//NONSGML v1.0//EN
CALSCALE:GREGORIAN
METHOD:PUBLISH
X-WR-CALNAME:NATS Vancouver
X-ORIGINAL-URL:https://www.natsvancouver.org
X-WR-CALDESC:Events for NATS Vancouver
BEGIN:VEVENT
DTSTART;VALUE=DATE:20160304
DTEND;VALUE=DATE:20160306
DTSTAMP:20260424T031201
CREATED:20150817T205123Z
LAST-MODIFIED:20150817T210154Z
UID:868-1457049600-1457308799@www.natsvancouver.org
SUMMARY:NATS Northwest Regional Conference
DESCRIPTION:
URL:https://www.natsvancouver.org/event/nats-northwest-regional-conference/
LOCATION:WA\, United States
END:VEVENT
END:VCALENDAR