BEGIN:VCALENDAR
VERSION:2.0
PRODID:-//NATS Vancouver - ECPv4.3.4.2//NONSGML v1.0//EN
CALSCALE:GREGORIAN
METHOD:PUBLISH
X-WR-CALNAME:NATS Vancouver
X-ORIGINAL-URL:https://www.natsvancouver.org
X-WR-CALDESC:Events for NATS Vancouver
BEGIN:VEVENT
DTSTART;VALUE=DATE:20160123
DTEND;VALUE=DATE:20160124
DTSTAMP:20260424T013813
CREATED:20151120T233927Z
LAST-MODIFIED:20151120T233927Z
UID:934-1453507200-1453679999@www.natsvancouver.org
SUMMARY:From L.A.\, in Styles. A Weekend Event with Lisa Popeil
DESCRIPTION:
URL:https://www.natsvancouver.org/event/l-styles-weekend-event-lisa-popeil/
LOCATION:Victoria\, BC\, Canada
END:VEVENT
END:VCALENDAR