BEGIN:VCALENDAR
VERSION:2.0
PRODID:-//NATS Vancouver - ECPv4.3.4.2//NONSGML v1.0//EN
CALSCALE:GREGORIAN
METHOD:PUBLISH
X-WR-CALNAME:NATS Vancouver
X-ORIGINAL-URL:https://www.natsvancouver.org
X-WR-CALDESC:Events for NATS Vancouver
BEGIN:VEVENT
DTSTART;TZID=America/Vancouver:20221113T190000
DTEND;TZID=America/Vancouver:20221113T203000
DTSTAMP:20260423T190735
CREATED:20221024T022405Z
LAST-MODIFIED:20221024T022405Z
UID:1656-1668366000-1668371400@www.natsvancouver.org
SUMMARY:Fall Student Recital at Brentwood Presbyterian Church
DESCRIPTION:Singers of all ages and of any level of achievement are invited to perform to a supportive audience in an encouraging acoustic on Sunday November 13 at 7 pm.  Grand piano on site. If you sing to backing tracks\, you will need to provide your own device to play your tracks. No microphone - acoustic vocals only.\n\nIf you need help finding an accompanist\, please contact the recital organizer\, Geordie Roberts.\n\nVenue is Brentwood Presbyterian Church\, 1600 Delta Avenue\, Burnaby BC\n\nSome parking available on site.\n\nSuggested length of performance: maximum of 8 minutes or 2 songs\, whichever is less.\n\nPlease submit your information for the program to Geordie Roberts by November 10. Include singer's name\, title and composer of songs. I would also appreciate knowing the level of study of the singer so that the beginners can go first.\n\nOn with the show!\n\n 
URL:https://www.natsvancouver.org/event/fall-student-recital-brentwood-presbyterian-church/
LOCATION:1600 Delta Avenue\, Burnaby \, BC
ORGANIZER;CN="George%20Roberts":MAILTO:groberts@capilanou.ca
END:VEVENT
END:VCALENDAR