BEGIN:VCALENDAR
VERSION:2.0
PRODID:-//NATS Vancouver - ECPv4.3.4.2//NONSGML v1.0//EN
CALSCALE:GREGORIAN
METHOD:PUBLISH
X-WR-CALNAME:NATS Vancouver
X-ORIGINAL-URL:https://www.natsvancouver.org
X-WR-CALDESC:Events for NATS Vancouver
BEGIN:VEVENT
DTSTART;TZID=America/Vancouver:20191124T133000
DTEND;TZID=America/Vancouver:20191124T150000
DTSTAMP:20260423T220701
CREATED:20191106T043052Z
LAST-MODIFIED:20191106T043052Z
UID:1391-1574602200-1574607600@www.natsvancouver.org
SUMMARY:Fall Student Recital
DESCRIPTION:Encourage your students to perform in a safe and encouraging environment. This recital is for acoustic only performances in any style at any level; no amplification will be provided. A CCM recital is planned for May 2020 with sound system.\n\nTo sign up for this recital\, please contact Karyn Way\, the recitals co-ordinator.
URL:https://www.natsvancouver.org/event/fall-student-recital-3/
LOCATION:3333 Kaslo Street\, Vancouver\, BC\, Canada
END:VEVENT
END:VCALENDAR