BEGIN:VCALENDAR
VERSION:2.0
PRODID:-//NATS Vancouver - ECPv4.3.4.2//NONSGML v1.0//EN
CALSCALE:GREGORIAN
METHOD:PUBLISH
X-WR-CALNAME:NATS Vancouver
X-ORIGINAL-URL:https://www.natsvancouver.org
X-WR-CALDESC:Events for NATS Vancouver
BEGIN:VEVENT
DTSTART;TZID=America/Vancouver:20181118T150000
DTEND;TZID=America/Vancouver:20181118T163000
DTSTAMP:20260423T234709
CREATED:20181020T192936Z
LAST-MODIFIED:20181020T194432Z
UID:1279-1542553200-1542558600@www.natsvancouver.org
SUMMARY:Fall Student Recital
DESCRIPTION:A new venue in the heart of Burnaby. Lots of parking and no Vancouver traffic to contend with.
URL:https://www.natsvancouver.org/event/fall-student-recital-2/
LOCATION:6010 Kincaid Avenue\, Burnaby\, BC
END:VEVENT
END:VCALENDAR