BEGIN:VCALENDAR
VERSION:2.0
PRODID:-//NATS Vancouver - ECPv4.3.4.2//NONSGML v1.0//EN
CALSCALE:GREGORIAN
METHOD:PUBLISH
X-WR-CALNAME:NATS Vancouver
X-ORIGINAL-URL:https://www.natsvancouver.org
X-WR-CALDESC:Events for NATS Vancouver
BEGIN:VEVENT
DTSTART;TZID=America/Vancouver:20160925T130000
DTEND;TZID=America/Vancouver:20160925T160000
DTSTAMP:20260424T013359
CREATED:20160708T001655Z
LAST-MODIFIED:20160708T001655Z
UID:1033-1474808400-1474819200@www.natsvancouver.org
SUMMARY:Fall General Meeting
DESCRIPTION:
URL:https://www.natsvancouver.org/event/fall-general-meeting/
LOCATION:3333 Kaslo Street\, Vancouver\, BC\, Canada
END:VEVENT
END:VCALENDAR