BEGIN:VCALENDAR
VERSION:2.0
PRODID:-//NATS Vancouver - ECPv4.3.4.2//NONSGML v1.0//EN
CALSCALE:GREGORIAN
METHOD:PUBLISH
X-WR-CALNAME:NATS Vancouver
X-ORIGINAL-URL:https://www.natsvancouver.org
X-WR-CALDESC:Events for NATS Vancouver
BEGIN:VEVENT
DTSTART;TZID=America/Vancouver:20170924T140000
DTEND;TZID=America/Vancouver:20170924T160000
DTSTAMP:20260423T234826
CREATED:20170924T013517Z
LAST-MODIFIED:20170924T013706Z
UID:1171-1506261600-1506268800@www.natsvancouver.org
SUMMARY:Fall General Meeting
DESCRIPTION:\n\nSunday Sept. 24th\, 2017 at 2:00pm\n\nSpirit of Life Lutheran Church  \n\n375 W 10th Ave\, Vancouver\, BC. (Corner of W 10th and Yukon).  \n\nGuest Speaker:   Ms Sandra Head\nTopic:  “Teaching Honest Acting in the Context of a Song”.  \nAs teachers\, we all would like our students to be able to communicate the text in their songs more effectively.  Ms Head will focus not just on general ideas but the specific of the text.  Whether it is classical repertoire\, musical theatre\, jazz or pop\, most students seem to need to be better communicators\, engaging in what might be called “ honest acting.”  Some ideas to be discussed are choice of repertoire\, using verbs\, seeing imagery and what to do when the song demands that I not sing for a bar or two.\n
URL:https://www.natsvancouver.org/event/fall-general-meeting-3/
END:VEVENT
END:VCALENDAR