BEGIN:VCALENDAR
VERSION:2.0
PRODID:-//NATS Vancouver - ECPv4.3.4.2//NONSGML v1.0//EN
CALSCALE:GREGORIAN
METHOD:PUBLISH
X-WR-CALNAME:NATS Vancouver
X-ORIGINAL-URL:https://www.natsvancouver.org
X-WR-CALDESC:Events for NATS Vancouver
BEGIN:VEVENT
DTSTART;TZID=America/Vancouver:20200927T160000
DTEND;TZID=America/Vancouver:20200927T173000
DTSTAMP:20260423T220806
CREATED:20200811T170113Z
LAST-MODIFIED:20200811T170113Z
UID:1469-1601222400-1601227800@www.natsvancouver.org
SUMMARY:Fall 2020 General Meeting
DESCRIPTION:Guest speaker - Jennifer Scott on classical training and the jazz vocalist. Chapter members will receive a zoom link automatically. Others welcome including prospective members. Contact Geordie by email for an invitation.
URL:https://www.natsvancouver.org/event/fall-2020-general-meeting/
ORGANIZER;CN="Geordie%20Roberts":MAILTO:geordieroberts41@gmail.com
END:VEVENT
END:VCALENDAR