BEGIN:VCALENDAR
VERSION:2.0
PRODID:-//NATS Vancouver - ECPv4.3.4.2//NONSGML v1.0//EN
CALSCALE:GREGORIAN
METHOD:PUBLISH
X-WR-CALNAME:NATS Vancouver
X-ORIGINAL-URL:https://www.natsvancouver.org
X-WR-CALDESC:Events for NATS Vancouver
BEGIN:VEVENT
DTSTART;TZID=America/Vancouver:20140622T140000
DTEND;TZID=America/Vancouver:20140622T170000
DTSTAMP:20260424T033327
CREATED:20140603T223814Z
LAST-MODIFIED:20140603T223814Z
UID:644-1403445600-1403456400@www.natsvancouver.org
SUMMARY:Craig Tompkins Studio Recital
DESCRIPTION:
URL:https://www.natsvancouver.org/event/craig-tompkins-studio-recital/
LOCATION:3333 Kaslo Street\, Vancouver\, BC\, Canada
END:VEVENT
END:VCALENDAR