BEGIN:VCALENDAR
VERSION:2.0
PRODID:-//NATS Vancouver - ECPv4.3.4.2//NONSGML v1.0//EN
CALSCALE:GREGORIAN
METHOD:PUBLISH
X-WR-CALNAME:NATS Vancouver
X-ORIGINAL-URL:https://www.natsvancouver.org
X-WR-CALDESC:Events for NATS Vancouver
BEGIN:VEVENT
DTSTART;TZID=America/Vancouver:20201108T160000
DTEND;TZID=America/Vancouver:20201108T173000
DTSTAMP:20260423T220925
CREATED:20200922T032109Z
LAST-MODIFIED:20200922T032109Z
UID:1485-1604851200-1604856600@www.natsvancouver.org
SUMMARY:Auditioning in an online universe with Craig Tompkins
DESCRIPTION:If you are preparing students for post-secondary auditions in Spring 2021\, join Craig for helps and hints with online auditioning: platforms\, recording options\, etc.
URL:https://www.natsvancouver.org/event/auditioning-online-universe-craig-tompkins/
END:VEVENT
END:VCALENDAR