BEGIN:VCALENDAR
VERSION:2.0
PRODID:-//NATS Vancouver - ECPv4.3.4.2//NONSGML v1.0//EN
CALSCALE:GREGORIAN
METHOD:PUBLISH
X-WR-CALNAME:NATS Vancouver
X-ORIGINAL-URL:https://www.natsvancouver.org
X-WR-CALDESC:Events for NATS Vancouver
BEGIN:VEVENT
DTSTART;TZID=America/Vancouver:20150531T140000
DTEND;TZID=America/Vancouver:20150531T160000
DTSTAMP:20260424T031042
CREATED:20140804T011714Z
LAST-MODIFIED:20141110T200555Z
UID:681-1433080800-1433088000@www.natsvancouver.org
SUMMARY:Annual General Meeting
DESCRIPTION:
URL:https://www.natsvancouver.org/event/annual-general-meeting/
LOCATION:3333 Kaslo Street\, Vancouver\, BC\, Canada
END:VEVENT
END:VCALENDAR