BEGIN:VCALENDAR
VERSION:2.0
PRODID:-//NATS Vancouver - ECPv4.3.4.2//NONSGML v1.0//EN
CALSCALE:GREGORIAN
METHOD:PUBLISH
X-WR-CALNAME:NATS Vancouver
X-ORIGINAL-URL:https://www.natsvancouver.org
X-WR-CALDESC:Events for NATS Vancouver
BEGIN:VEVENT
DTSTART;TZID=America/Vancouver:20230528T170000
DTEND;TZID=America/Vancouver:20230528T180000
DTSTAMP:20260423T184341
CREATED:20230525T163454Z
LAST-MODIFIED:20230525T163520Z
UID:1693-1685293200-1685296800@www.natsvancouver.org
SUMMARY:Annual General Meeting 2023
DESCRIPTION:Support your chapter by attending this important meeting. Financials for the year\, election of the Board of Directors (join the board!) and a brief overview of plans for 2023/24. Potluck supper to follow and recital at 7. Zoom link available. Send request for the link to groberts@capilanou.ca.
URL:https://www.natsvancouver.org/event/annual-general-meeting-2023/
LOCATION:375 W. 10th Avenue\, Vancouver\, BC\, Canada
ORGANIZER;CN="Geordie%20Roberts":MAILTO:geordieroberts41@gmail.com
END:VEVENT
END:VCALENDAR