BEGIN:VCALENDAR
VERSION:2.0
PRODID:-//NATS Vancouver - ECPv4.3.4.2//NONSGML v1.0//EN
CALSCALE:GREGORIAN
METHOD:PUBLISH
X-WR-CALNAME:NATS Vancouver
X-ORIGINAL-URL:https://www.natsvancouver.org
X-WR-CALDESC:Events for NATS Vancouver
BEGIN:VEVENT
DTSTART;TZID=America/Vancouver:20131124T140000
DTEND;TZID=America/Vancouver:20131124T140000
DTSTAMP:20260424T044251
CREATED:20140122T213818Z
LAST-MODIFIED:20140122T233850Z
UID:206-1385301600-1385301600@www.natsvancouver.org
SUMMARY:Student Recital
DESCRIPTION:Guest Artists\nDolores Scott and Grant Wutzke
URL:https://www.natsvancouver.org/event/20140122student-recital/
LOCATION:3333 Kaslo Street\, Vancouver\, BC\, Canada
END:VEVENT
END:VCALENDAR