BEGIN:VCALENDAR
VERSION:2.0
PRODID:-//NATS Vancouver - ECPv4.3.4.2//NONSGML v1.0//EN
CALSCALE:GREGORIAN
METHOD:PUBLISH
X-WR-CALNAME:NATS Vancouver
X-ORIGINAL-URL:https://www.natsvancouver.org
X-WR-CALDESC:Events for NATS Vancouver
BEGIN:VEVENT
DTSTART;TZID=America/Vancouver:20140222T090000
DTEND;TZID=America/Vancouver:20140222T180000
DTSTAMP:20260424T044858
CREATED:20140123T001403Z
LAST-MODIFIED:20140123T001403Z
UID:208-1393059600-1393092000@www.natsvancouver.org
SUMMARY:Songfest (Student Auditions)
DESCRIPTION:
URL:https://www.natsvancouver.org/event/20140122songfest-student-auditions/
LOCATION:3333 Kaslo Street\, Vancouver\, BC\, Canada
END:VEVENT
END:VCALENDAR