BEGIN:VCALENDAR
VERSION:2.0
PRODID:-//NATS Vancouver - ECPv4.3.4.2//NONSGML v1.0//EN
CALSCALE:GREGORIAN
METHOD:PUBLISH
X-WR-CALNAME:NATS Vancouver
X-ORIGINAL-URL:https://www.natsvancouver.org
X-WR-CALDESC:Events for NATS Vancouver
BEGIN:VEVENT
DTSTART;VALUE=DATE:20131014
DTEND;VALUE=DATE:20131016
DTSTAMP:20260424T071438
CREATED:20140122T212424Z
LAST-MODIFIED:20140122T233439Z
UID:202-1381708800-1381967999@www.natsvancouver.org
SUMMARY:NATS Northwest Regional Conference
DESCRIPTION:
URL:https://www.natsvancouver.org/event/20140122nats-northwest-regional-conference/
LOCATION:375 W. 10th Avenue\, Vancouver\, BC\, Canada
END:VEVENT
END:VCALENDAR