BEGIN:VCALENDAR
VERSION:2.0
PRODID:-//NATS Vancouver - ECPv4.3.4.2//NONSGML v1.0//EN
CALSCALE:GREGORIAN
METHOD:PUBLISH
X-WR-CALNAME:NATS Vancouver
X-ORIGINAL-URL:https://www.natsvancouver.org
X-WR-CALDESC:Events for NATS Vancouver
BEGIN:VEVENT
DTSTART;VALUE=DATE:20140131
DTEND;VALUE=DATE:20140131
DTSTAMP:20260424T045357
CREATED:20140122T234629Z
LAST-MODIFIED:20140122T234720Z
UID:207-1391126400-1391212799@www.natsvancouver.org
SUMMARY:Deadline for Songfest applications
DESCRIPTION:Contact: Melanie Adams\, Vice-President\nvicepresident@natsvancouver.org
URL:https://www.natsvancouver.org/event/20140122deadline-for-songfest-applications/
LOCATION:BC
END:VEVENT
END:VCALENDAR