BEGIN:VCALENDAR
VERSION:2.0
PRODID:-//NATS Vancouver - ECPv4.3.4.2//NONSGML v1.0//EN
CALSCALE:GREGORIAN
METHOD:PUBLISH
X-WR-CALNAME:NATS Vancouver
X-ORIGINAL-URL:https://www.natsvancouver.org
X-WR-CALDESC:Events for NATS Vancouver
BEGIN:VEVENT
DTSTART;TZID=America/Vancouver:20140308T140000
DTEND;TZID=America/Vancouver:20140308T140000
DTSTAMP:20260424T044736
CREATED:20140123T002206Z
LAST-MODIFIED:20140123T002206Z
UID:210-1394287200-1394287200@www.natsvancouver.org
SUMMARY:BC NATSSA Competition
DESCRIPTION:
URL:https://www.natsvancouver.org/event/20140122bc-natssa-competition/
LOCATION:3333 Kaslo Street\, Vancouver\, BC\, Canada
END:VEVENT
END:VCALENDAR