BEGIN:VCALENDAR
VERSION:2.0
PRODID:-//NATS Vancouver - ECPv4.3.4.2//NONSGML v1.0//EN
CALSCALE:GREGORIAN
METHOD:PUBLISH
X-WR-CALNAME:NATS Vancouver
X-ORIGINAL-URL:https://www.natsvancouver.org
X-WR-CALDESC:Events for NATS Vancouver
BEGIN:VEVENT
DTSTART;TZID=America/Vancouver:20140525T140000
DTEND;TZID=America/Vancouver:20140525T140000
DTSTAMP:20260424T044816
CREATED:20140123T003642Z
LAST-MODIFIED:20140123T003642Z
UID:214-1401026400-1401026400@www.natsvancouver.org
SUMMARY:Annual General Meeting
DESCRIPTION:
URL:https://www.natsvancouver.org/event/20140122annual-general-meeting/
LOCATION:3333 Kaslo Street\, Vancouver\, BC\, Canada
END:VEVENT
END:VCALENDAR